BEGIN:VCALENDAR
VERSION:2.0
METHOD:PUBLISH
BEGIN:VEVENT
ORGANIZER:MAILTO:
DTSTART:20260423T173000Z
DTEND:20260423T183000Z
LOCATION:228620
SUMMARY:Start Your Story Right: The Five Foundational Questions You Need to Answer Before Writing Anything (repeat)
DESCRIPTION;ENCODING=QUOTED-PRINTABLE: All webinar start times are listed in US Eastern Time. To see what the start time means for your location, CLICK HERE. \n Good stories intrinsically have a structure our brains are looking for. With these 5 key questions, you can make sure you hit those key points on an idea you have, your work in progress, or a book you&#39;ve already written. \n About the Presenter: Jennifer Crosswhite is owner and CEO of Tandem Services, an author services company that empowers influencers to harness the transformative power of story to spread their message, create an impact, and leave a legacy. Her twenty years&rsquo; experience spans both sides of the publishing desk, from managing editor to author of 20 books and counting. \n To see all of our upcoming live webinar events, CLICK HERE . 
X-ALT-DESC;FMTTYPE=text/html:<html><body><h4><strong><span style="background-color:#ff9900;color:#ffffff;">All webinar start times are listed in US Eastern Time. To see what the start time means for your location,&nbsp;<span style="text-decoration:underline;"><a href="https://www.timeanddate.com/worldclock/converter.html?iso=20260423T173000&amp;p1=105&amp;p2=136" rel="noopener noreferrer" target="_blank"><span style="color:#ffff99;text-decoration:underline;">CLICK HERE.</span></a></span></span></strong></h4><p><br />Good stories intrinsically have a structure our brains are looking for. With these 5 key questions, you can make sure you hit those key points on an idea you have, your work in progress, or a book you&#39;ve already written.</p><p><strong>About the Presenter:</strong> <br />Jennifer Crosswhite is owner and CEO of Tandem Services, an author services company that empowers influencers to harness the transformative power of story to spread their message, create an impact, and leave a legacy. Her twenty years&rsquo; experience spans both sides of the publishing desk, from managing editor to author of 20 books and counting.</p><p><em>To see all of our upcoming live webinar events,<span>&nbsp;</span><a href="https://www.authorlearningcenter.com/webinars/">CLICK HERE</a>.</em></p><div style="clear:both;"></div></body></html>
CLASS:PUBLIC
END:VEVENT
END:VCALENDAR